BEGIN:VCALENDAR
VERSION:2.0
PRODID:-//wp-events-plugin.com//7.2.3.1//EN
TZID:America/Chicago
X-WR-TIMEZONE:America/Chicago
BEGIN:VEVENT
UID:3@acinternationaluniversity.org
DTSTART;TZID=America/Chicago:20240826T000000
DTEND;TZID=America/Chicago:20240826T000000
DTSTAMP:20240815T153849Z
URL:https://acinternationaluniversity.org/events/welcome-to-the-aciu-facul
 ty-team/
SUMMARY:Welcome to the ACIU Faculty Team!
DESCRIPTION:We are thrilled to have you on board as part of our dedicated f
 aculty at AC International University. As educators\, you hold in your han
 ds the incredible responsibility and privilege of guiding our students on 
 their journey to becoming the leaders of tomorrow. Your expertise\, passio
 n\, and commitment will not only shape their academic growth but also insp
 ire them to reach their fullest potential.\n\nTo ensure you have everythin
 g you need to succeed\, we’ve equipped you with the necessary tools and 
 resources to prepare and empower our students. After you sign your contrac
 t\, our Human Resources team\, along with the IT Director\, will provide y
 ou with your platform login details and all necessary passwords. This will
  grant you access to the digital resources and support you need to effecti
 vely manage your courses and connect with your students.\n\nThank you for 
 your dedication to excellence in education. We are confident that together
 \, we will make a lasting impact on the future of our students and the glo
 bal community. Welcome to ACIU!
END:VEVENT
BEGIN:VTIMEZONE
TZID:America/Chicago
X-LIC-LOCATION:America/Chicago
BEGIN:DAYLIGHT
DTSTART:20240310T030000
TZOFFSETFROM:-0600
TZOFFSETTO:-0500
TZNAME:CDT
END:DAYLIGHT
END:VTIMEZONE
END:VCALENDAR